BEGIN:VCALENDAR
VERSION:2.0
PRODID:-//BISA - Business Information Systems Association (USYD) - ECPv4.6.23//NONSGML v1.0//EN
CALSCALE:GREGORIAN
METHOD:PUBLISH
X-WR-CALNAME:BISA - Business Information Systems Association (USYD)
X-ORIGINAL-URL:https://bisa.org.au
X-WR-CALDESC:Events for BISA - Business Information Systems Association (USYD)
BEGIN:VEVENT
DTSTART;TZID=UTC+10:20200908T173000
DTEND;TZID=UTC+10:20200908T190000
DTSTAMP:20210226T172857
CREATED:20200825T070107Z
LAST-MODIFIED:20200930T081058Z
UID:3293-1599586200-1599591600@bisa.org.au
SUMMARY:AWS Coding Workshop (ft. Accenture)
DESCRIPTION:Did you know that many major global companies\, such as Netflix\, use Amazon Web Services\, which has become the biggest cloud computing provider in the world? In this 90 minute workshop\, you will hear from representatives working at Accenture as they take you through AWS and share their insights about the uses of this popular cloud computing platform. \n
URL:https://bisa.org.au/event/aws-coding-workshop-ft-accenture/
LOCATION:Zoom
CATEGORIES:workshops
ATTACH;FMTTYPE=image/jpeg:https://bisa.org.au/wp-content/uploads/2020/08/118241392_3302832249807774_5942262203352132643_n.jpg
ORGANIZER;CN="BISA":MAILTO:econ.bisa@gmail.com
END:VEVENT
END:VCALENDAR