BEGIN:VCALENDAR
VERSION:2.0
PRODID:-//BISA - Business Information Systems Association (USYD) - ECPv4.6.23//NONSGML v1.0//EN
CALSCALE:GREGORIAN
METHOD:PUBLISH
X-WR-CALNAME:BISA - Business Information Systems Association (USYD)
X-ORIGINAL-URL:https://bisa.org.au
X-WR-CALDESC:Events for BISA - Business Information Systems Association (USYD)
BEGIN:VEVENT
DTSTART;TZID=UTC+10:20190608T210000
DTEND;TZID=UTC+10:20190608T220000
DTSTAMP:20210226T173924
CREATED:20190527T083401Z
LAST-MODIFIED:20190527T083401Z
UID:1272-1560027600-1560031200@bisa.org.au
SUMMARY:BISA 2019 Subcommittee Recruitment - Semester 2
DESCRIPTION:Are you interested in being involved in the behind-the-scenes of a fast-growing society on campus? Looking for an opportunity that will challenge you and enrich your university experience? Get started with BISA by joining our subcommittee team today! \nSemester 2 will see us running even more events and we are looking for enthusiastic students for the following portfolios:\n– Events\n– Education\n– Marketing\n– Creative \nRoles and descriptions: https://tinyurl.com/BISA2019S2Subcomm\n\nWe are looking for subcommittee members to join the team and be involved in all aspects of the society. We highly value teamwork and so although you may be placed in a Subcommittee role\, you will be an integral part of the BISA. \nApply now for a chance to make your mark and help take BISA to the next level! Applications close Saturday 8th June at 10pm\, but they will be considered on a rolling basis so be sure to apply today! \nApply here: https://forms.gle/YwjuZRmAG7ceYCLx5 \nInterviews will be held the week after final exams (week starting Monday 24th June). \n
URL:https://bisa.org.au/event/bisa-2019-subcommittee-recruitment-semester-2/
CATEGORIES:events
ATTACH;FMTTYPE=image/jpeg:https://bisa.org.au/wp-content/uploads/2019/05/61071408_2288348327922843_5577970930367332352_o.jpg
ORGANIZER;CN="BISA":MAILTO:econ.bisa@gmail.com
END:VEVENT
END:VCALENDAR