BEGIN:VCALENDAR
VERSION:2.0
PRODID:-//BISA - Business Information Systems Association (USYD) - ECPv4.6.23//NONSGML v1.0//EN
CALSCALE:GREGORIAN
METHOD:PUBLISH
X-WR-CALNAME:BISA - Business Information Systems Association (USYD)
X-ORIGINAL-URL:https://bisa.org.au
X-WR-CALDESC:Events for BISA - Business Information Systems Association (USYD)
BEGIN:VEVENT
DTSTART;TZID=UTC+10:20200903T210000
DTEND;TZID=UTC+10:20201116T235900
DTSTAMP:20210226T172308
CREATED:20200531T075905Z
LAST-MODIFIED:20200817T084246Z
UID:2879-1599166800-1605571140@bisa.org.au
SUMMARY:BISA Presents: 2020 Industry Mentor Program
DESCRIPTION:\n\n\nApply to be a mentee at https://www.bisa.org.au/apply-to-be-a-mentee/\n\nWe are back with our most anticipated event of the year\, the Industry Mentor Program! In these challenging times\, we’ve teamed up with some of our amazing sponsors to provide you with incredible insight into the industry. Take away the small talk of networking nights\, and ask the real\, big questions – all the ins and outs of the industry and what they do! Mentors in the past of certain companies have directly recommended their mentees with high potential to Human Resources for positive consideration into their Summer Intern or Graduate Programs.\n\n\n \n\n\nWHO? \n\n\nWe encourage everyone to apply but will be prioritising penultimate and final year students\, as well as students studying the following degrees:\n\n\n\nCommerce/Economics\, with a major in BIS\, Accounting\, Finance\, Business Analytics or Econometrics\nInformation Technology/Advanced Computing\nSoftware/Electrical Engineering\nScience\, with a major in Computer Science\, Data Science\, Financial Mathematics and Statistics\n\n\n\nWHAT?\n\n\nMentees will be paired off with a mentor\, an industry professional\, with whom they’ll organise at least 3 meetings over the 10-week program (i.e. during the Semester). These meetings can be in the form of a catch up over coffee\, lunch or a shadowing opportunity to discuss your career goals and seek guidance from a mentor who has experience in the industry. \n\n\n \n\n\nWHEN and WHERE?\nALL EVENTS WILL BE ONLINE VIA ZOOM\n\n\n\n\n\n\n\n📅 Thursday 3rd September evening for the Mentor Program Launch event.\n📅 Wednesday 13th November for the Mentor Program Closing event.\n🔰 You’ll organise at least 3 meetings that will suit both yourself and your mentor over the course of the program.\n✅ Successful applicants must also attend a compulsory workshop on Thursday 27th August evening.\n\n\n\n\n\n\n\nHOW? \n\n\nApply to be a mentee at: https://www.bisa.org.au/apply-to-be-a-mentee/\n\n\n \n\n\nApplications close 11.59pm 13th August 2020. Applications will be assessed on a rolling basis so get in quick!\n\n\n\n
URL:https://bisa.org.au/event/bisa-presents-2020-industry-mentor-program/
LOCATION:Zoom
CATEGORIES:events
ATTACH;FMTTYPE=image/jpeg:https://bisa.org.au/wp-content/uploads/2020/05/101003708_3066231610134507_1130358576817111040_n.jpg
ORGANIZER;CN="BISA":MAILTO:econ.bisa@gmail.com
END:VEVENT
END:VCALENDAR