BEGIN:VCALENDAR
VERSION:2.0
PRODID:-//BISA - Business Information Systems Association (USYD) - ECPv4.6.23//NONSGML v1.0//EN
CALSCALE:GREGORIAN
METHOD:PUBLISH
X-WR-CALNAME:BISA - Business Information Systems Association (USYD)
X-ORIGINAL-URL:https://bisa.org.au
X-WR-CALDESC:Events for BISA - Business Information Systems Association (USYD)
BEGIN:VEVENT
DTSTART;TZID=UTC+10:20190516T170000
DTEND;TZID=UTC+10:20190516T190000
DTSTAMP:20210226T173946
CREATED:20190427T143715Z
LAST-MODIFIED:20190516T085430Z
UID:1150-1558026000-1558033200@bisa.org.au
SUMMARY:BISA Presents: INFS1000 Fundamentals Workshop
DESCRIPTION:RSVP has closed.\n(Become a BISA member today!)\n  \n\nAre you worried about your upcoming INFS1000 Group report? Struggling to piece together your ERD or BPMN? …\n\n\n \n\n\n…BISA to the rescue!! Our INFS1000 Assignment Workshop\, run by INFS1000 high achievers\, is specifically designed to teach you the tips and tricks of the trade. This is a great opportunity for you and your group members to gain a better understanding of the concepts of the course and how to score that HD!\n\n\n \n\n\nDate: Thursday\, 16th May (Week 11)\n\n\nTime: 5pm – 7pm \n\n\nLocation: ABS Seminar Room 3080\n\n\nRegistrations are essential (above)\n\n\n \n\n\nThe workshop will focus on a sample case and progress through the major components of the assignment such as the Value Proposition\, Strategic Analysis\, Value Chain\, ERD and BPMN. Through these interactive activities\, you’ll be able to gain a better understanding of how to transfer these concepts to your own group assignment.\n\n\n \n\n\nYou’ll also get to see exemplar exam responses as well as raise questions about the content in the Q&A session. There’ll even be free food!!\n\n\n \n\n\nWorkshop Agenda (tentative):\n\n\n– Strategy and value proposition walkthrough\n\n\n– ERD + BPMN tips and tricks\n\n\n– Lab demonstration breakdown\n\n\n– Break: networking and food \n\n\n– Critical reflection + reflection on teamwork tips\n\n\n– Conclusions and Q&A \n\n\n \n\n\nThis workshop is FREE but registrations are essential (link above)!\n\n\n \n\n\nDisclaimer: the materials have been developed by students who have ranked in the unit\, and has not been developed in collaboration with lecturers or the BIS discipline. For specific advice on examinable content\, ALWAYS consult with your lecturers.\n\n
URL:https://bisa.org.au/event/bisa-presents-infs1000-fundamentals-workshop/
LOCATION:ABS Seminar Room 3080\, Darlington Ln & Abercrombie St\, Darlington\, Sydney\, Sydney\, 2008\, Australia
CATEGORIES:workshops
ATTACH;FMTTYPE=image/png:https://bisa.org.au/wp-content/uploads/2019/04/58443986_619725625120354_3414120639471026176_n.png
ORGANIZER;CN="BISA":MAILTO:econ.bisa@gmail.com
END:VEVENT
END:VCALENDAR