BEGIN:VCALENDAR
VERSION:2.0
PRODID:-//BISA - Business Information Systems Association (USYD) - ECPv4.6.23//NONSGML v1.0//EN
CALSCALE:GREGORIAN
METHOD:PUBLISH
X-WR-CALNAME:BISA - Business Information Systems Association (USYD)
X-ORIGINAL-URL:https://bisa.org.au
X-WR-CALDESC:Events for BISA - Business Information Systems Association (USYD)
BEGIN:VEVENT
DTSTART;TZID=UTC+10:20200514T170000
DTEND;TZID=UTC+10:20200514T183000
DTSTAMP:20210226T173037
CREATED:20200512T012239Z
LAST-MODIFIED:20200512T013401Z
UID:2855-1589475600-1589481000@bisa.org.au
SUMMARY:BISA Presents - INFS1000 Workshop 2020!
DESCRIPTION:Unsure about how to approach the INFS1000 Group report? Or perhaps it’s ERDs and BPMs that has you scratching your head perplexed? \nDon’t worry\, BISA’s here! \nOur INFS1000 Workshop will be returning this year\, via Zoom. Hear from INFS1000 past high achievers\, who will be sharing their tips and tricks! This is a great opportunity that you don’t want to miss\, so what are you waiting for? \nInvite your group members\, join us on 14th May \, and score that HD! Mark your calendars! \nAgenda: We will have high achievers in the subject provide advice about how to do well in your group tasks and ERD diagrams. There will be chances for you to ask questions about their experience and advice on how to do well! \n~~~ \nDisclaimer: \nThe materials have been developed by students who have ranked in the unit\, and has not been developed in collaboration with the lecturers of the BIS disclipline. For specific advice on examinable content\, ALWAYS consult with your lecturers. \nSee you there! \n
URL:https://bisa.org.au/event/bisa-presents-infs1000-workshop-2020/
CATEGORIES:workshops
ATTACH;FMTTYPE=image/jpeg:https://bisa.org.au/wp-content/uploads/2020/04/94624057_2982617075162628_8497290098725879808_n.jpg
END:VEVENT
END:VCALENDAR