BEGIN:VCALENDAR
VERSION:2.0
PRODID:-//BISA - Business Information Systems Association (USYD) - ECPv4.6.23//NONSGML v1.0//EN
CALSCALE:GREGORIAN
METHOD:PUBLISH
X-WR-CALNAME:BISA - Business Information Systems Association (USYD)
X-ORIGINAL-URL:https://bisa.org.au
X-WR-CALDESC:Events for BISA - Business Information Systems Association (USYD)
BEGIN:VEVENT
DTSTART;TZID=UTC+10:20200218T090000
DTEND;TZID=UTC+10:20200219T150000
DTSTAMP:20210226T173142
CREATED:20200130T085624Z
LAST-MODIFIED:20200203T120915Z
UID:2735-1582016400-1582124400@bisa.org.au
SUMMARY:BISA Presents: Welcome Week 2020
DESCRIPTION:It’s time to get excited for yet another year at Sydney University! Come down to the Business School and look for the BISA stall for some good company and even better conversations. \nFind out why BISA is the club you should be joining this year\, hear about the opportunities and fun events we hold (ask us about camp and subcommittee recruitment)\, and get a taste of all the opportunity and excitement that the Business Information Systems major holds. We will also have some goodie bags to give out! \nUndergrad Welcome: Tues 18th Feb (9-3pm)\nPostgrad Welcome: Wed 19th Feb (9-3pm) \n Level 2\, Abercrombie Business School \nSignup at www.bisa.org.au/join to become a member. It’s free and only takes a minute to sign up! (Or you can sign up on the day!) \nSee you there! 🙂 \n
URL:https://bisa.org.au/event/bisa-presents-welcome-week-2020/
LOCATION:ABS Level 2
CATEGORIES:events
ATTACH;FMTTYPE=image/png:https://bisa.org.au/wp-content/uploads/2020/02/Artboard-1.png
ORGANIZER;CN="BISA":MAILTO:econ.bisa@gmail.com
END:VEVENT
END:VCALENDAR