BEGIN:VCALENDAR
VERSION:2.0
PRODID:-//BISA - Business Information Systems Association (USYD) - ECPv4.6.23//NONSGML v1.0//EN
CALSCALE:GREGORIAN
METHOD:PUBLISH
X-WR-CALNAME:BISA - Business Information Systems Association (USYD)
X-ORIGINAL-URL:https://bisa.org.au
X-WR-CALDESC:Events for BISA - Business Information Systems Association (USYD)
BEGIN:VEVENT
DTSTART;TZID=UTC+10:20200916T173000
DTEND;TZID=UTC+10:20200916T190000
DTSTAMP:20210226T172635
CREATED:20200902T065754Z
LAST-MODIFIED:20200902T065754Z
UID:3300-1600277400-1600282800@bisa.org.au
SUMMARY:BISA x PwC Presents: Digital Trust Workshop
DESCRIPTION:Register here: https://forms.gle/SKrVhsBThFDeJ4McA \nAre you keen to learn more about an exciting career in digital trust? In an increasingly digitised business world\, cybersecurity\, data protection and tech assurance have become some of the most important and employable fields for new graduates. \nLearn more about this exciting new field and how YOU can get involved from PwC’s Digital Trust team. Have your burning questions answered and get to network with professionals from the field. \n
URL:https://bisa.org.au/event/bisa-x-pwc-presents-digital-trust-workshop/
ATTACH;FMTTYPE=image/png:https://bisa.org.au/wp-content/uploads/2020/09/cyber.png
END:VEVENT
END:VCALENDAR