BEGIN:VCALENDAR
VERSION:2.0
PRODID:-//BISA - Business Information Systems Association (USYD) - ECPv4.6.23//NONSGML v1.0//EN
CALSCALE:GREGORIAN
METHOD:PUBLISH
X-WR-CALNAME:BISA - Business Information Systems Association (USYD)
X-ORIGINAL-URL:https://bisa.org.au
X-WR-CALDESC:Events for BISA - Business Information Systems Association (USYD)
BEGIN:VEVENT
DTSTART;TZID=UTC+10:20200902T160000
DTEND;TZID=UTC+10:20200902T170000
DTSTAMP:20210226T172931
CREATED:20200825T065449Z
LAST-MODIFIED:20200825T065449Z
UID:3289-1599062400-1599066000@bisa.org.au
SUMMARY:Introductory Python Workshop
DESCRIPTION:Come to our introductory Python workshop to jump-start your interest in practical data analytics and gain useful guidance on how to make the learning journey easy! \n
URL:https://bisa.org.au/event/introductory-python-workshop/
LOCATION:Zoom
ATTACH;FMTTYPE=image/jpeg:https://bisa.org.au/wp-content/uploads/2020/08/117605711_3292858734138459_5171574149023922796_n.jpg
ORGANIZER;CN="BISA":MAILTO:econ.bisa@gmail.com
END:VEVENT
END:VCALENDAR