BEGIN:VCALENDAR
VERSION:2.0
PRODID:-//BISA - Business Information Systems Association (USYD) - ECPv4.6.23//NONSGML v1.0//EN
CALSCALE:GREGORIAN
METHOD:PUBLISH
X-WR-CALNAME:BISA - Business Information Systems Association (USYD)
X-ORIGINAL-URL:https://bisa.org.au
X-WR-CALDESC:Events for BISA - Business Information Systems Association (USYD)
BEGIN:VEVENT
DTSTART;TZID=UTC+10:20200811T160000
DTEND;TZID=UTC+10:20200811T170000
DTSTAMP:20210226T173017
CREATED:20200726T083514Z
LAST-MODIFIED:20200727T101739Z
UID:2982-1597161600-1597165200@bisa.org.au
SUMMARY:BISA Presents: Web-Resume Workshop
DESCRIPTION:Help employers find you online through a stunning personal web-resume! 🌐\nA web-resume is an excellent supplement to the traditional two-page CV. This workshop will help you create\, customize\, and publish a fully personalized website that distinguishes your achievements 🏆 and experiences 💼 from the crowd. \nAll this in 60 minutes\, for free! \nThis workshop will help you showcase your talent to potential employers. We understand the need to stand out in this era of digital education\, job applications and careers 👨‍💼👩‍💼 We also know that there’s no better time for university students to learn these relevant online skills 🤓 So what are you waiting for? \nAdditionally\, we will give you a public shoutout on our Linkedin for attending our event. It’s an awesome way to get noticed on Linkedin\, especially when the conversation is about Resumes! \n📅 When: 11th of August 4pm-5pm\n📅 Where: Zoom link will be posted soon! \nSign up today to secure a spot! \n\n
URL:https://bisa.org.au/event/web-resume-workshop/
LOCATION:Zoom
CATEGORIES:workshops
ATTACH;FMTTYPE=image/png:https://bisa.org.au/wp-content/uploads/2020/07/BISA-RESUME.png
ORGANIZER;CN="BISA":MAILTO:econ.bisa@gmail.com
END:VEVENT
END:VCALENDAR